BEGIN:VCALENDAR
VERSION:2.0
PRODID:-//eventon.com NONSGML v1.0//EN
CALSCALE:GREGORIAN
METHOD:PUBLISH
BEGIN:VEVENT
UID:69e72e1e53e4c
DTSTAMP:20260421T075822Z
DTSTART:20230507
DTEND:20230508
LOCATION:
SUMMARY:Portree osa 2
DESCRIPTION:Viimsi Kunstikooli näituse programm jätkub. Portreenäituse e
 simeses osas esitlesid oma taieseid kunstikooli vanemad põhikursuse õpila
 sed\,  siis teises osas esinevad esimest korda kooli galeriis nooremad kuns
 tirühmad\,  eelkursused ja sissejuhatus kunsti lapsed ekstra selleks näit
 useks tehtud töödega.Portreekunst tänapäevases mõistes tekkis 16. saja
 ndi alguse Itaalias ja Saksamaal. Portree on sageli seotud mõne sündmuseg
 a\, [..]\nhttps://www.viimsihuvikoolid.ee/events/portree-osa-2/
URL:https://www.viimsihuvikoolid.ee/events/portree-osa-2/
END:VEVENT
END:VCALENDAR